BEGIN:VCALENDAR
PRODID:-//PUBBLE//agenda//NL
VERSION:2.0
METHOD:PUBLISH
BEGIN:VEVENT
DTSTART:20260426T173000Z
DTEND:20260426T223000Z
DTSTAMP:20260423T140017Z
UID:6300bfe4-981f-4f81-9530-b60ffe981c16
CREATED:20260423T140017Z
NAME:Koningsnacht op het plein mooisonenbreugel.nl
X-WR-CALNAME:Koningsnacht op het plein
X-ALT-DESC;FMTTYPE=text/html:<a href='/agenda/2026/4/26/koningsnacht-op-het-plein-43523'>/agenda/2026/4/26/koningsnacht-op-het-plein-43523</a> || 
DESCRIPTION:<a href='/agenda/2026/4/26/koningsnacht-op-het-plein-43523'>/agenda/2026/4/26/koningsnacht-op-het-plein-43523</a> || 
LAST-MODIFIED:20260423T140017Z
LOCATION: Kerkplein Son en Breugel | Kerkplein 5 Son en Breugel
SEQUENCE:0
STATUS:CONFIRMED
SUMMARY:Koningsnacht op het plein
TRANSP:OPAQUE
END:VEVENT
END:VCALENDAR
