BEGIN:VCALENDAR
PRODID:-//PUBBLE//agenda//NL
VERSION:2.0
METHOD:PUBLISH
BEGIN:VEVENT
DTSTART:20260427T030000Z
DTEND:20260427T050000Z
DTSTAMP:20260424T141251Z
UID:5753e3c7-25ed-42d4-9796-74e97c5f3fd5
CREATED:20260424T141251Z
NAME:Ochtendwandeling IVN mooisonenbreugel.nl
X-WR-CALNAME:Ochtendwandeling IVN
X-ALT-DESC;FMTTYPE=text/html:<a href='/agenda/2026/4/27/ochtendwandeling-ivn-43525'>/agenda/2026/4/27/ochtendwandeling-ivn-43525</a> || <p>Per fiets naar de Mosbulten. Onder begeleiding van ervaren vogelaars herkennen we verschillende volgelgeluiden tijdens de wandeling.</p>
DESCRIPTION:<a href='/agenda/2026/4/27/ochtendwandeling-ivn-43525'>/agenda/2026/4/27/ochtendwandeling-ivn-43525</a> || <p>Per fiets naar de Mosbulten. Onder begeleiding van ervaren vogelaars herkennen we verschillende volgelgeluiden tijdens de wandeling.</p>
LAST-MODIFIED:20260424T141251Z
LOCATION: Pieter Breughelplein | Pieter Breughelplein  Son en Breugel
SEQUENCE:0
STATUS:CONFIRMED
SUMMARY:Ochtendwandeling IVN
TRANSP:OPAQUE
END:VEVENT
END:VCALENDAR
