BEGIN:VCALENDAR
PRODID:-//PUBBLE//agenda//NL
VERSION:2.0
METHOD:PUBLISH
BEGIN:VEVENT
DTSTART:20260427T120000Z
DTEND:20260427T203000Z
DTSTAMP:20260423T165251Z
UID:a7c1f22f-b089-4647-9b09-89e209cda77c
CREATED:20260423T165251Z
NAME:Koningsdag op het plein mooisonenbreugel.nl
X-WR-CALNAME:Koningsdag op het plein
X-ALT-DESC;FMTTYPE=text/html:<a href='/agenda/2026/4/27/koningsdag-op-het-plein-43532'>/agenda/2026/4/27/koningsdag-op-het-plein-43532</a> || 
DESCRIPTION:<a href='/agenda/2026/4/27/koningsdag-op-het-plein-43532'>/agenda/2026/4/27/koningsdag-op-het-plein-43532</a> || 
LAST-MODIFIED:20260423T165251Z
LOCATION: Kerkplein Son en Breugel | Kerkplein 5 Son en Breugel
SEQUENCE:0
STATUS:CONFIRMED
SUMMARY:Koningsdag op het plein
TRANSP:OPAQUE
END:VEVENT
END:VCALENDAR
